BEGIN:VCALENDAR
VERSION:2.0
PRODID:-//www.barthsyndrome.org//NONSGML kigkonsult.se iCalcreator 2.30.10/
 /
CALSCALE:GREGORIAN
METHOD:PUBLISH
UID:a91afc86-d04d-4075-8179-986464acc109
X-WR-CALDESC:What is a sleep study and when should it be considered? \nWhen
  is a sleep aid really needed? \nIs CBD something I should use for my chil
 d?\n\nJoin the Child Neurology Foundation for a webinar on June 14 at 12 p
 .m. EDT for answers to these questions and more. You’ll hear from a parent
  of child living with a neurologic condition and a child neurologist/sleep
  specialist about the importance of sleep management for our community.
X-WR-RELCALID:2a530797caa12400b0206b24e6d560fa
X-WR-TIMEZONE:America/New_York
BEGIN:VTIMEZONE
TZID:America/New_York
BEGIN:STANDARD
TZNAME:EST
DTSTART:20201101T020000
TZOFFSETFROM:-0400
TZOFFSETTO:-0500
RDATE:20211107T020000
RDATE:20221106T020000
END:STANDARD
BEGIN:DAYLIGHT
TZNAME:EDT
DTSTART:20210314T020000
TZOFFSETFROM:-0500
TZOFFSETTO:-0400
RDATE:20220313T020000
END:DAYLIGHT
END:VTIMEZONE
BEGIN:VEVENT
UID:dd43142d-c408-48fa-94e3-ade85c75c2c0
DTSTAMP:20260424T043545Z
DESCRIPTION:What is a sleep study and when should it be considered? \nWhen 
 is a sleep aid really needed? \nIs CBD something I should use for my child
 ?\n\nJoin the Child Neurology Foundation for a webinar on June 14 at 12 p.
 m. EDT for answers to these questions and more. You’ll hear from a parent 
 of child living with a neurologic condition and a child neurologist/sleep 
 specialist about the importance of sleep management for our community.
DTSTART;TZID=America/New_York:20210614T120000
DTEND;TZID=America/New_York:20210614T130000
LOCATION:https://zoom.us/webinar/register/WN_BsV9iZG4Qh2qtUFXJtjoMA?fbclid=
 IwAR0r8KDnxg1FpAnA6uaA519-qRlS9z1jfrhbhJsjxILZDobettPHGFyOUEE
SUMMARY:Child Neurology Society:  Practical Tools to Address Sleep Problems
END:VEVENT
END:VCALENDAR
