BEGIN:VCALENDAR
VERSION:2.0
PRODID:-//www.barthsyndrome.org//NONSGML kigkonsult.se iCalcreator 2.30.10/
 /
CALSCALE:GREGORIAN
METHOD:PUBLISH
UID:a2cdf82e-f0c8-48b1-933a-1fe10d4b4f83
X-WR-CALDESC:Join NORD for the Living Rare\, Living Stronger NORD Patient a
 nd Family Forum\, an interactive virtual event. Living Rare\, Living Stron
 ger is an annual patient-focused conference\, providing patients and famil
 ies with practical tools for living their best lives with rare diseases an
 d opportunities to connect with each other\, advocates and other stakehold
 ers. This year’s Forum will provide interactive Q&A and networking session
 s\, inspiring plenary sessions\, and plenty of fun and surprises!
X-WR-RELCALID:e87880dbae7aafc4c4c557ea7278d806
X-WR-TIMEZONE:America/New_York
BEGIN:VTIMEZONE
TZID:America/New_York
BEGIN:STANDARD
TZNAME:EST
DTSTART:20201101T020000
TZOFFSETFROM:-0400
TZOFFSETTO:-0500
RDATE:20211107T020000
RDATE:20221106T020000
END:STANDARD
BEGIN:DAYLIGHT
TZNAME:EDT
DTSTART:20210314T020000
TZOFFSETFROM:-0500
TZOFFSETTO:-0400
RDATE:20220313T020000
END:DAYLIGHT
END:VTIMEZONE
BEGIN:VEVENT
UID:2cc72582-2f2e-4367-b123-a0006c06c800
DTSTAMP:20260425T003755Z
DESCRIPTION:Join NORD for the Living Rare\, Living Stronger NORD Patient an
 d Family Forum\, an interactive virtual event. Living Rare\, Living Strong
 er is an annual patient-focused conference\, providing patients and famili
 es with practical tools for living their best lives with rare diseases and
  opportunities to connect with each other\, advocates and other stakeholde
 rs. This year’s Forum will provide interactive Q&A and networking sessions
 \, inspiring plenary sessions\, and plenty of fun and surprises!
DTSTART;TZID=America/New_York:20210627T000000
DTEND;TZID=America/New_York:20210627T235900
LOCATION:https://livingrare.org/
SUMMARY:Living Rare\, Living Stronger\, NORD Patient and Family Forum
END:VEVENT
END:VCALENDAR
