BEGIN:VCALENDAR
VERSION:2.0
PRODID:-//www.barthsyndrome.org//NONSGML kigkonsult.se iCalcreator 2.30.10/
 /
CALSCALE:GREGORIAN
METHOD:PUBLISH
UID:3058aa28-bf83-4186-9f53-d03e4a85f104
X-WR-CALDESC:Details to join: \nMay 31\, 2024 | 12pm ET\nhttps://barthsyndr
 ome.zoom.us/j/99700561098\n\nMeeting ID: 997 0056 1098\nPasscode: Research
 \n\nRead about her research here: https://www.barthsyndrome.org/barthsyndr
 ome/familyresources/research-summaries/impact-of-raising-children-with-bar
 th-syndrome-on-parental-health-related-quality-of-life-and-family-function
 ing.html\n
X-WR-RELCALID:ef5a8501020778eda38e5503d3faf239
X-WR-TIMEZONE:America/New_York
BEGIN:VTIMEZONE
TZID:America/New_York
BEGIN:STANDARD
TZNAME:EST
DTSTART:20231105T020000
TZOFFSETFROM:-0400
TZOFFSETTO:-0500
RDATE:20241103T020000
RDATE:20251102T020000
END:STANDARD
BEGIN:DAYLIGHT
TZNAME:EDT
DTSTART:20240310T020000
TZOFFSETFROM:-0500
TZOFFSETTO:-0400
RDATE:20250309T020000
END:DAYLIGHT
END:VTIMEZONE
BEGIN:VEVENT
UID:a8ec2448-7d3a-48f3-9684-2f063454f7c6
DTSTAMP:20260425T221512Z
DESCRIPTION:Details to join: \nMay 31\, 2024 | 12pm ET\nhttps://barthsyndro
 me.zoom.us/j/99700561098\n\nMeeting ID: 997 0056 1098\nPasscode: Research
 \n\nRead about her research here: https://www.barthsyndrome.org/barthsyndr
 ome/familyresources/research-summaries/impact-of-raising-children-with-bar
 th-syndrome-on-parental-health-related-quality-of-life-and-family-function
 ing.html\n
DTSTART;TZID=America/New_York:20240531T120000
DTEND;TZID=America/New_York:20240531T130000
LOCATION:https://barthsyndrome.zoom.us/j/99700561098
SUMMARY:Fifth Friday Research Series
END:VEVENT
END:VCALENDAR
