BEGIN:VCALENDAR
VERSION:2.0
PRODID:-//www.barthsyndrome.org//NONSGML kigkonsult.se iCalcreator 2.30.10/
 /
CALSCALE:GREGORIAN
METHOD:PUBLISH
UID:f5efd451-a739-443a-ab7f-b898b91ebab4
X-WR-CALDESC:We are holding an FDA Advisory Committee Essential Training on
  Friday\, September 13th\, at 12 PM EST. We HIGHLY encourage you to join u
 s to learn more about the AdComm process\, how to submit impactful testimo
 ny\, and how your voice can make a difference.
X-WR-RELCALID:4779f2dc1088cb64a7bfd62c0fac5fce
X-WR-TIMEZONE:America/New_York
BEGIN:VTIMEZONE
TZID:America/New_York
BEGIN:STANDARD
TZNAME:EST
DTSTART:20231105T020000
TZOFFSETFROM:-0400
TZOFFSETTO:-0500
RDATE:20241103T020000
RDATE:20251102T020000
END:STANDARD
BEGIN:DAYLIGHT
TZNAME:EDT
DTSTART:20240310T020000
TZOFFSETFROM:-0500
TZOFFSETTO:-0400
RDATE:20250309T020000
RDATE:20260308T020000
END:DAYLIGHT
END:VTIMEZONE
BEGIN:VEVENT
UID:6d397555-b06e-48c8-9a24-d36dade3f132
DTSTAMP:20260425T152915Z
DESCRIPTION:We are holding an FDA Advisory Committee Essential Training on 
 Friday\, September 13th\, at 12 PM EST. We HIGHLY encourage you to join us
  to learn more about the AdComm process\, how to submit impactful testimon
 y\, and how your voice can make a difference.
DTSTART;TZID=America/New_York:20240913T120000
DTEND;TZID=America/New_York:20240913T130000
LOCATION:https://barthsyndrome.zoom.us/meeting/register/tZEuc-6tpz8sHda1a-7
 pSWoRk7NygLmPiT4M#/registration
SUMMARY:AdComm: Docket Orientation
END:VEVENT
END:VCALENDAR
