BEGIN:VCALENDAR
VERSION:2.0
PRODID:-//www.barthsyndrome.org//NONSGML kigkonsult.se iCalcreator 2.30.10/
 /
CALSCALE:GREGORIAN
METHOD:PUBLISH
UID:f3523c0d-f4c2-4179-bf36-9e44abfc926d
X-WR-CALDESC:
X-WR-RELCALID:89ed1956b0c33add01dbf6663c9c366c
X-WR-TIMEZONE:America/New_York
BEGIN:VTIMEZONE
TZID:America/New_York
BEGIN:STANDARD
TZNAME:EST
DTSTART:20231105T020000
TZOFFSETFROM:-0400
TZOFFSETTO:-0500
RDATE:20241103T020000
RDATE:20251102T020000
END:STANDARD
BEGIN:DAYLIGHT
TZNAME:EDT
DTSTART:20240310T020000
TZOFFSETFROM:-0500
TZOFFSETTO:-0400
RDATE:20250309T020000
RDATE:20260308T020000
END:DAYLIGHT
END:VTIMEZONE
BEGIN:VEVENT
UID:f48adbd4-61ca-475b-89ba-51f92cbbfe45
DTSTAMP:20260425T154537Z
DESCRIPTION:
DTSTART;TZID=America/New_York:20240918T060000
DTEND;TZID=America/New_York:20240918T060001
LOCATION:
SUMMARY:AdComm: OPH Submission Deadline
END:VEVENT
END:VCALENDAR
