BEGIN:VCALENDAR
VERSION:2.0
PRODID:-//www.barthsyndrome.org//NONSGML kigkonsult.se iCalcreator 2.30.10/
 /
CALSCALE:GREGORIAN
METHOD:PUBLISH
UID:503d5253-3e08-40cb-ae68-216a6059d803
X-WR-CALDESC:Want to expand your mito-knowledge? Join us for an exciting di
 ve into the fundamentals of mitochondria—the powerhouse of life! This Wedn
 esday (September 18) at 12pm EST\, science teacher Jessica McCann will gui
 de us through why these tiny organelles are so essential.\n\nFor Zoom link
  and password\, please contact Emily Madalinski: emily.madalinski@barthsyn
 drome.org
X-WR-RELCALID:cbf2e4e324ce2ee19ff1c6d5b0ba6a92
X-WR-TIMEZONE:America/New_York
BEGIN:VTIMEZONE
TZID:America/New_York
BEGIN:STANDARD
TZNAME:EST
DTSTART:20231105T020000
TZOFFSETFROM:-0400
TZOFFSETTO:-0500
RDATE:20241103T020000
RDATE:20251102T020000
END:STANDARD
BEGIN:DAYLIGHT
TZNAME:EDT
DTSTART:20240310T020000
TZOFFSETFROM:-0500
TZOFFSETTO:-0400
RDATE:20250309T020000
RDATE:20260308T020000
END:DAYLIGHT
END:VTIMEZONE
BEGIN:VEVENT
UID:daf85c84-c89b-43df-b27a-2825e261197f
DTSTAMP:20260425T154219Z
DESCRIPTION:Want to expand your mito-knowledge? Join us for an exciting div
 e into the fundamentals of mitochondria—the powerhouse of life! This Wedne
 sday (September 18) at 12pm EST\, science teacher Jessica McCann will guid
 e us through why these tiny organelles are so essential.\n\nFor Zoom link 
 and password\, please contact Emily Madalinski: emily.madalinski@barthsynd
 rome.org
DTSTART;TZID=America/New_York:20240918T120000
DTEND;TZID=America/New_York:20240918T130000
LOCATION:
SUMMARY:Mito 101
END:VEVENT
END:VCALENDAR
