BEGIN:VCALENDAR
VERSION:2.0
PRODID:-//www.barthsyndrome.org//NONSGML kigkonsult.se iCalcreator 2.30.10/
 /
CALSCALE:GREGORIAN
METHOD:PUBLISH
UID:bfaf567e-af02-43ee-aee5-f2540b3811c6
X-WR-CALDESC:
X-WR-RELCALID:e904f892ddced49698648f1038cbf436
X-WR-TIMEZONE:America/New_York
BEGIN:VTIMEZONE
TZID:America/New_York
BEGIN:STANDARD
TZNAME:EST
DTSTART:20231105T020000
TZOFFSETFROM:-0400
TZOFFSETTO:-0500
RDATE:20241103T020000
RDATE:20251102T020000
END:STANDARD
BEGIN:DAYLIGHT
TZNAME:EDT
DTSTART:20240310T020000
TZOFFSETFROM:-0500
TZOFFSETTO:-0400
RDATE:20250309T020000
RDATE:20260308T020000
END:DAYLIGHT
END:VTIMEZONE
BEGIN:VEVENT
UID:7d714a0e-0d23-4aef-8dd7-a389f376f45b
DTSTAMP:20260425T154440Z
DESCRIPTION:
DTSTART;TZID=America/New_York:20240919T060000
DTEND;TZID=America/New_York:20240919T060001
LOCATION:
SUMMARY:AdComm: FDA Notification of OPH Speakers
END:VEVENT
END:VCALENDAR
