BEGIN:VCALENDAR
VERSION:2.0
PRODID:-//www.barthsyndrome.org//NONSGML kigkonsult.se iCalcreator 2.30.10/
 /
CALSCALE:GREGORIAN
METHOD:PUBLISH
UID:32a00524-82fd-4d1c-af73-b6c079241a97
X-WR-CALDESC:
X-WR-RELCALID:0d690b149832c73e7315a96e3e607287
X-WR-TIMEZONE:America/New_York
BEGIN:VTIMEZONE
TZID:America/New_York
BEGIN:STANDARD
TZNAME:EST
DTSTART:20231105T020000
TZOFFSETFROM:-0400
TZOFFSETTO:-0500
RDATE:20241103T020000
RDATE:20251102T020000
END:STANDARD
BEGIN:DAYLIGHT
TZNAME:EDT
DTSTART:20240310T020000
TZOFFSETFROM:-0500
TZOFFSETTO:-0400
RDATE:20250309T020000
RDATE:20260308T020000
END:DAYLIGHT
END:VTIMEZONE
BEGIN:VEVENT
UID:489b84fc-7546-4ec7-8b3e-2903d58a8244
DTSTAMP:20260425T154531Z
DESCRIPTION:
DTSTART;TZID=America/New_York:20240925T120000
DTEND;TZID=America/New_York:20240925T130000
LOCATION:
SUMMARY:AdComm: OPH Practice
END:VEVENT
END:VCALENDAR
