BEGIN:VCALENDAR
VERSION:2.0
PRODID:-//www.barthsyndrome.org//NONSGML kigkonsult.se iCalcreator 2.30.10/
 /
CALSCALE:GREGORIAN
METHOD:PUBLISH
UID:65a7cb0e-ad1c-47a2-9c4a-83b1c4ce3e23
X-WR-CALDESC:
X-WR-RELCALID:1d8e8cff466baffc72b2d63226657426
X-WR-TIMEZONE:America/New_York
BEGIN:VTIMEZONE
TZID:America/New_York
BEGIN:STANDARD
TZNAME:EST
DTSTART:20231105T020000
TZOFFSETFROM:-0400
TZOFFSETTO:-0500
RDATE:20241103T020000
RDATE:20251102T020000
END:STANDARD
BEGIN:DAYLIGHT
TZNAME:EDT
DTSTART:20240310T020000
TZOFFSETFROM:-0500
TZOFFSETTO:-0400
RDATE:20250309T020000
RDATE:20260308T020000
END:DAYLIGHT
END:VTIMEZONE
BEGIN:VEVENT
UID:6a43aa1a-2ae4-4d51-a017-cd5ffdc828ed
DTSTAMP:20260425T152727Z
DESCRIPTION:
DTSTART;TZID=America/New_York:20240926T060000
DTEND;TZID=America/New_York:20240926T060001
LOCATION:
SUMMARY:AdComm: FDA Docket Deadline
END:VEVENT
END:VCALENDAR
