BEGIN:VCALENDAR
VERSION:2.0
PRODID:-//www.barthsyndrome.org//NONSGML kigkonsult.se iCalcreator 2.30.10/
 /
CALSCALE:GREGORIAN
METHOD:PUBLISH
UID:9f805caa-4c92-419b-9943-1f64a9d0a77f
X-WR-CALDESC:
X-WR-RELCALID:8211cddf9bd9ffb066ec7995616e55af
X-WR-TIMEZONE:America/New_York
BEGIN:VTIMEZONE
TZID:America/New_York
BEGIN:STANDARD
TZNAME:EST
DTSTART:20231105T020000
TZOFFSETFROM:-0400
TZOFFSETTO:-0500
RDATE:20241103T020000
RDATE:20251102T020000
END:STANDARD
BEGIN:DAYLIGHT
TZNAME:EDT
DTSTART:20240310T020000
TZOFFSETFROM:-0500
TZOFFSETTO:-0400
RDATE:20250309T020000
RDATE:20260308T020000
END:DAYLIGHT
END:VTIMEZONE
BEGIN:VEVENT
UID:b4661acc-330a-4898-b13f-a2f60b646e3e
DTSTAMP:20260425T154239Z
DESCRIPTION:
DTSTART;TZID=America/New_York:20240926T180000
DTEND;TZID=America/New_York:20240926T190000
LOCATION:
SUMMARY:AdComm: OPH Practice
END:VEVENT
END:VCALENDAR
