BEGIN:VCALENDAR
VERSION:2.0
PRODID:-//www.barthsyndrome.org//NONSGML kigkonsult.se iCalcreator 2.30.10/
 /
CALSCALE:GREGORIAN
METHOD:PUBLISH
UID:70401cd1-7afa-44a6-a1dc-447958ff72db
X-WR-CALDESC:
X-WR-RELCALID:195625d98dbc3a8333afe7b1837c5dee
X-WR-TIMEZONE:America/New_York
BEGIN:VTIMEZONE
TZID:America/New_York
BEGIN:STANDARD
TZNAME:EST
DTSTART:20231105T020000
TZOFFSETFROM:-0400
TZOFFSETTO:-0500
RDATE:20241103T020000
RDATE:20251102T020000
END:STANDARD
BEGIN:DAYLIGHT
TZNAME:EDT
DTSTART:20240310T020000
TZOFFSETFROM:-0500
TZOFFSETTO:-0400
RDATE:20250309T020000
RDATE:20260308T020000
END:DAYLIGHT
END:VTIMEZONE
BEGIN:VEVENT
UID:a1e65178-8ea4-4af1-bb94-4c650f11ec7a
DTSTAMP:20260425T140641Z
DESCRIPTION:
DTSTART;TZID=America/New_York:20241009T100000
DTEND;TZID=America/New_York:20241009T160000
LOCATION:FDA headquarters in White Oak\, MD\, 10903 New Hampshire Ave\, Sil
 ver Spring \, MD 20903 US
SUMMARY:AdComm: In-person OPH Practice
END:VEVENT
END:VCALENDAR
