BEGIN:VCALENDAR
VERSION:2.0
PRODID:-//www.barthsyndrome.org//NONSGML kigkonsult.se iCalcreator 2.30.10/
 /
CALSCALE:GREGORIAN
METHOD:PUBLISH
UID:c966c17b-33dc-40f6-9eba-2c217e2ce2b7
X-WR-CALDESC:Join us Friday\, October 25 at 12 PM EST for our Fourth Friday
  Roundtable featuring Dr. Aileen Kenneson\, who will share key insights fr
 om our newly published peer-reviewed journal article: The diagnostic odyss
 ey\, clinical burden\, and natural history of Barth syndrome: an analysis 
 of patient registry data. This is a fantastic opportunity to learn how you
 r contributions to the patient registry are driving groundbreaking researc
 h and deepening our understanding of Barth syndrome.\n\nPlease contact BSF
  staff for the link and passcode to join.
X-WR-RELCALID:1de3dfcf2553d131fe9fab40b7dcf25a
X-WR-TIMEZONE:America/New_York
BEGIN:VTIMEZONE
TZID:America/New_York
BEGIN:STANDARD
TZNAME:EST
DTSTART:20231105T020000
TZOFFSETFROM:-0400
TZOFFSETTO:-0500
RDATE:20241103T020000
RDATE:20251102T020000
END:STANDARD
BEGIN:DAYLIGHT
TZNAME:EDT
DTSTART:20240310T020000
TZOFFSETFROM:-0500
TZOFFSETTO:-0400
RDATE:20250309T020000
RDATE:20260308T020000
END:DAYLIGHT
END:VTIMEZONE
BEGIN:VEVENT
UID:35b99bdf-c944-4104-a313-a64b0732a8f2
DTSTAMP:20260425T135320Z
DESCRIPTION:Join us Friday\, October 25 at 12 PM EST for our Fourth Friday 
 Roundtable featuring Dr. Aileen Kenneson\, who will share key insights fro
 m our newly published peer-reviewed journal article: The diagnostic odysse
 y\, clinical burden\, and natural history of Barth syndrome: an analysis o
 f patient registry data. This is a fantastic opportunity to learn how your
  contributions to the patient registry are driving groundbreaking research
  and deepening our understanding of Barth syndrome.\n\nPlease contact BSF 
 staff for the link and passcode to join.
DTSTART;TZID=America/New_York:20241025T120000
DTEND;TZID=America/New_York:20241025T130000
LOCATION:https://www.barthsyndrome.org/newsevents/calendar.html/event/2024/
 10/25/1729875600/fourth-friday-round-table-with-aileen-kenneson-phd-ms/501
 800
SUMMARY:Fourth Friday Round Table with Aileen Kenneson\, PhD\, MS
END:VEVENT
END:VCALENDAR
