BEGIN:VCALENDAR
VERSION:2.0
PRODID:-//www.barthsyndrome.org//NONSGML kigkonsult.se iCalcreator 2.30.10/
 /
CALSCALE:GREGORIAN
METHOD:PUBLISH
UID:4c79a7dd-7d7f-49d4-b58a-391dc7ef0047
X-WR-CALDESC:Join us on Zoom\, Friday\, July 25 at 12:00 PM ET as we welcom
 e Dr. Seul Kee Byeon\, a scientist at Mayo Clinic\, Rochester\, who studie
 s how certain fats\, called lipids\, play important roles in how our bodie
 s work. One of her research projects focuses on understanding a special ty
 pe of lipid called cardiolipin\, which is not made properly in Barth syndr
 ome. She is currently working to develop better tools for measuring cardio
 lipins\, with the goal of supporting families. Her work combines lab-based
  discovery with efforts to make real-life testing more accessible and mean
 ingful. In this talk\, she will share findings from her latest work and fr
 om the on-site research she conducted at the 2024 Barth Syndrome Internati
 onal Conference.
X-WR-RELCALID:73d6d0d247c530a2521fe02cca8377e2
X-WR-TIMEZONE:America/New_York
BEGIN:VTIMEZONE
TZID:America/New_York
BEGIN:STANDARD
TZNAME:EST
DTSTART:20241103T020000
TZOFFSETFROM:-0400
TZOFFSETTO:-0500
RDATE:20251102T020000
RDATE:20261101T020000
END:STANDARD
BEGIN:DAYLIGHT
TZNAME:EDT
DTSTART:20250309T020000
TZOFFSETFROM:-0500
TZOFFSETTO:-0400
RDATE:20260308T020000
END:DAYLIGHT
END:VTIMEZONE
BEGIN:VEVENT
UID:167c4231-e47b-4ca7-8a60-9c9a0a075004
DTSTAMP:20260424T215506Z
DESCRIPTION:Join us on Zoom\, Friday\, July 25 at 12:00 PM ET as we welcome
  Dr. Seul Kee Byeon\, a scientist at Mayo Clinic\, Rochester\, who studies
  how certain fats\, called lipids\, play important roles in how our bodies
  work. One of her research projects focuses on understanding a special typ
 e of lipid called cardiolipin\, which is not made properly in Barth syndro
 me. She is currently working to develop better tools for measuring cardiol
 ipins\, with the goal of supporting families. Her work combines lab-based 
 discovery with efforts to make real-life testing more accessible and meani
 ngful. In this talk\, she will share findings from her latest work and fro
 m the on-site research she conducted at the 2024 Barth Syndrome Internatio
 nal Conference.
DTSTART;TZID=America/New_York:20250725T120000
DTEND;TZID=America/New_York:20250725T130000
LOCATION:For meeting link and passcode\, please email Melissa.Huang@barthsy
 ndrome.org
SUMMARY:Fourth Friday Round Table with Dr. Seul Kee Byeon
END:VEVENT
END:VCALENDAR
